BEGIN:VCALENDAR
METHOD:PUBLISH
VERSION:2.0
PRODID:-//Eventilla iCal Syndication//NONSGML Liana//EN
BEGIN:VEVENT
UID:AX3vb@eventilla.com
DTSTAMP:20250923T140000Z
DTSTART:20250923T140000Z
DTEND:20250923T170000Z
SUMMARY:Matkailun ideakahvila - Rovaniemen matkailun uusi aika
DESCRIPTION:Tervetuloa keskustelemaan matkailusta tiistaina 23.9 klo 17–19. Tilaisuudessa pohditaan yhdessä sitä\, millaiseksi matkailukaupungiksi Rovaniemi halutaan rakentaa tulevina vuosina.  \nTilaisuuteen voi osallistua paikan päällä Arktikumissa (Pohjoisranta 4) tai etäyhteydellä (Microsoft Teams). Tilaisuus on avoin kaikille ja sinne ei ole ennakkoilmoittautumista.  \nTilaisuudessa on luvassa paneelikeskustelu sekä kaikille avoin keskusteluosio. \nPaneelikeskusteluun osallistuvat Visit Rovaniemen toimitusjohtaja Sanna Kärkkäinen\, Lapin yliopiston lehtori Maria Hakkarainen\, Rovaniemen kaupunginhallituksen puheenjohtaja Susanna Viitala\, Visit Rovaniemen hallituksen puheenjohtaja Rauno Posio sekä Katariina Lehtonen Rovaniemen matkailun uusi aika –hankkeesta.  \nTilaisuus on osa matkailun ideakahviloita\, joita on järjestetty keväästä 2024 saakka.  Ideakahvilat on järjestetty osana Rovaniemen matkailun uusi aika -hanketta. Tilaisuus on hankkeen viimeinen ideakahvila. \nTämän tilaisuuden\, aiempien ideakahviloiden ja viime talvena tehdyn matkailukyselyn tuloksia tullaan hyödyntämään osana Rovaniemen matkailustrategiatyötä. Kaupunki viestii matkailustrategiatyöstä erikseen syyskuun aikana.  \n \nLisätietoja: \nKatariina LehtonenProjektipäällikkö\, Rovaniemen matkailun uusi aikaBusiness Rovaniemi / Elinkeino- ja yrityspalvelut\, Rovaniemen kaupunki+358 40 525 9346katariina.lehtonen@rovaniemi.fi
LOCATION:Arktikum\, Pohjoisranta 4\, 96200\, Rovaniemi\, Suomi
URL:http://events.businessrovaniemi.fi/event/AX3vb
END:VEVENT
END:VCALENDAR
